BEGIN:VCALENDAR
VERSION:2.0
PRODID:-//eventon.com NONSGML v1.0//EN
CALSCALE:GREGORIAN
METHOD:PUBLISH
BEGIN:VEVENT
UID:69ecb9e51b608
DTSTAMP:20260425T125605Z
DTSTART:20260504T180000Z
DTEND:20260504T200000Z
LOCATION:
SUMMARY:Rendez-vous avec le groupe local Revenu de Base Paris
DESCRIPTION:Rendez-vous le lundi 4 mai à 18h\,  avec le groupe local MFRB 
 Paris. On se retrouve à la Librairie Utopia\,  1 rue Frédéric Sauton 750
 05 Paris.Contact : Guy Valette\,  guy_valette_paris@hotmail.com\nhttps://ww
 w.revenudebase.info/evenement/rendez-vous-avec-le-groupe-local-revenu-de-ba
 se-paris-2/
URL:https://www.revenudebase.info/evenement/rendez-vous-avec-le-groupe-local-revenu-de-base-paris-2/
END:VEVENT
END:VCALENDAR