BEGIN:VCALENDAR
VERSION:2.0
PRODID:-//eventon.com NONSGML v1.0//EN
CALSCALE:GREGORIAN
METHOD:PUBLISH
BEGIN:VEVENT
UID:69e77ff90e85e
DTSTAMP:20260421T134737Z
DTSTART:20260421T111700Z
DTEND:20260421T111700Z
LOCATION:Le Génie Paris - 4 Boulevard Beaumarchais Paris 11ème 4 Boulevard Beaumarchais
SUMMARY:Rendez-vous à l'apéro du groupe local Paris de l'association Pause IA
DESCRIPTION:Ce n'est un secret pour personne : le développement de l'intel
 ligence artificielle progresse à une vitesse fulgurante. Si les capacités
  de l'IA étaient limitées il y a encore quelques années\,  elles surpass
 ent aujourd'hui l'humain dans de nombreux domaines. Mais cette accélérati
 on comporte des risques majeurs : désinformation\,  cyberattaques\,  perte
  de[..]\nhttps://www.revenudebase.info/evenement/apero-groupe-local-paris-a
 ssociation-pause-ia/
URL:https://www.revenudebase.info/evenement/apero-groupe-local-paris-association-pause-ia/
END:VEVENT
END:VCALENDAR