BEGIN:VCALENDAR
VERSION:2.0
PRODID:-//eventon.com NONSGML v1.0//EN
CALSCALE:GREGORIAN
METHOD:PUBLISH
BEGIN:VEVENT
UID:69eca27dddcc4
DTSTAMP:20260425T111613Z
DTSTART:20240715T140000Z
DTEND:20240715T160000Z
LOCATION:https://us06web.zoom.us/j/84714416774?pwd=49uaOfjboSbXdiwvdGTuiSVZo6q3QN.1
SUMMARY:Séminaire UBI Hypo avec Eva Jacob et Catarina Neves : la question du RBI au Portugal
DESCRIPTION:Séance en anglais et en ligne du séminaire Unconditional Basi
 c Income Hypotheses (cf. ubi.hypotheses.org) : Eva Jacob\,  doctorante sur 
 la question du RBI à l’université de Strasbourg\,  interviewera Catarin
 a Neves\,  récemment diplomée docteur en philosophie politique sur la que
 stion du RBI et de la réciprocité à l’université de Minho (Braga\, [.
 .]\nhttps://www.revenudebase.info/evenement/seminaire-ubi-hypotheses-rbi-po
 rtugal/var/event_access
URL:https://www.revenudebase.info/evenement/seminaire-ubi-hypotheses-rbi-portugal/var/event_access
END:VEVENT
END:VCALENDAR