BEGIN:VCALENDAR
VERSION:2.0
PRODID:-//eventon.com NONSGML v1.0//EN
CALSCALE:GREGORIAN
METHOD:PUBLISH
BEGIN:VEVENT
UID:69e4d4b3f2bfd
DTSTAMP:20260419T131219Z
DTSTART:20240710T173000Z
DTEND:20240710T193000Z
LOCATION:https://us06web.zoom.us/j/84145678062?pwd=YmNCSGdPZG9iQXB3UmR4UmNPWThWQT09
SUMMARY:Discussion libre : à quels publics le MFRB doit-il s'adresser ?
DESCRIPTION:Chaque mois\,  nous proposons des sessions thématiques sur des
  thèmes liés au Revenu de Base. Discussion libre : "A quel(s) public(s) d
 evons-nous nous adresser ? Pourquoi et comment ? Où devons-nous concentrer
  nos efforts ?” 📅  Mercredi 10 juillet à 19h30 💻 En ligne\,  s
 ur zoom : https://us06web.zoom.us/j/84145678062?pwd=YmNCSGdPZG9iQXB3UmR4UmN
 PWThWQT09 Le MFRB vous[..]\nhttps://www.revenudebase.info/evenement/discuss
 ion-libre-a-quel-public-le-mfrb-doit-il-sadresser/var/event_access
URL:https://www.revenudebase.info/evenement/discussion-libre-a-quel-public-le-mfrb-doit-il-sadresser/var/event_access
END:VEVENT
END:VCALENDAR