BEGIN:VCALENDAR
VERSION:2.0
PRODID:-//eventon.com NONSGML v1.0//EN
CALSCALE:GREGORIAN
METHOD:PUBLISH
BEGIN:VEVENT
UID:69e5a39c433c1
DTSTAMP:20260420T035508Z
DTSTART:20240130T183000Z
DTEND:20240130T203000Z
LOCATION:https://us06web.zoom.us/j/84145678062?pwd=YmNCSGdPZG9iQXB3UmR4UmNPWThWQT09
SUMMARY:Formation sur l'Histoire du revenu de base\,  avec Raihere Maruhi
DESCRIPTION:Chaque mois\,  nous proposons des sessions thématiques autour 
 du revenu de base\,  tous les derniers mardi. Thème : "L'Histoire de l'id
 e du revenu de base et son évolution” depuis le XVIème siècle jusqu'
  nos jours\,  à travers les différents penseurs et philosophes qui ont d
 irectement et indirectement traité de la[..]\nhttps://www.revenudebase.inf
 o/evenement/formation-histoire-revenu-de-base/var/event_access
URL:https://www.revenudebase.info/evenement/formation-histoire-revenu-de-base/var/event_access
END:VEVENT
END:VCALENDAR