BEGIN:VCALENDAR
VERSION:2.0
PRODID:-//eventon.com NONSGML v1.0//EN
CALSCALE:GREGORIAN
METHOD:PUBLISH
BEGIN:VEVENT
UID:69e61b9e018a4
DTSTAMP:20260420T122710Z
DTSTART:20231027T073000Z
DTEND:20231027T083000Z
LOCATION:
SUMMARY:Un atelier avec le MFRB à l'université Utopia le 27 octobre
DESCRIPTION:Le MFRB animera un atelier le 27 octobre à 9h30 lors de la pro
 chaine Université Utopia qui a lieu du 26 au 29 octobre\,  afin d’inscri
 re le revenu universel au coeur des transformations nécessaires du monde d
 e demain. C'est un moment convivial au creux de l’automne qui favorise la
  réflexion[..]\nhttps://www.revenudebase.info/evenement/un-atelier-avec-le
 -mfrb-a-luniversite-utopia-du-26-au-29-octobre/
URL:https://www.revenudebase.info/evenement/un-atelier-avec-le-mfrb-a-luniversite-utopia-du-26-au-29-octobre/
END:VEVENT
END:VCALENDAR