BEGIN:VCALENDAR
VERSION:2.0
PRODID:-//eventon.com NONSGML v1.0//EN
CALSCALE:GREGORIAN
METHOD:PUBLISH
BEGIN:VEVENT
UID:69eac747d4db2
DTSTAMP:20260424T012839Z
DTSTART:20200811
DTEND:20200812
LOCATION:
SUMMARY:Tour de base - Lille-Bruxelles
DESCRIPTION:Un tour familial et jovial pour créer des lendemains qui donne
 nt la frite Un tour à vélo local\,  pour (faire) parler du revenu de base
  ! Contact : pascale.loquet@sfr.fr\nhttps://www.revenudebase.info/evenement
 /tour-de-base-lille-bruxelles/
URL:https://www.revenudebase.info/evenement/tour-de-base-lille-bruxelles/
END:VEVENT
END:VCALENDAR